BEGIN:VCALENDAR
VERSION:2.0
PRODID:Wausau, WI Calendar Creator
METHOD:PUBLISH
BEGIN:VEVENT
DTSTAMP:20240424T173642
DTSTART:20260420T171500
DTEND:20260420T183000
SUMMARY:Public Health and Safety Committee
DESCRIPTION:
X-ALT-DESC;FMTTYPE=text/html:
LOCATION:City Hall - Council Chambers\, 407 Grant St\, 1st Floor Wausau\, Wisconsin 54403
CLASS:PUBLIC
END:VEVENT
END:VCALENDAR
