BEGIN:VCALENDAR
VERSION:2.0
PRODID:Wausau, WI Calendar Creator
METHOD:PUBLISH
BEGIN:VEVENT
DTSTAMP:20251229T112334
DTSTART:20260504T171500
DTEND:20260504T191500
SUMMARY:Parks and Recreation Committee
DESCRIPTION:<p>A regular meeting of the Parks and Recreation Committee will take place in Council Chambers.</p><p>The agenda will post when available.&nbsp;</p>
X-ALT-DESC;FMTTYPE=text/html:<p>A regular meeting of the Parks and Recreation Committee will take place in Council Chambers.</p><p>The agenda will post when available.&nbsp;</p>
LOCATION:City Hall - Council Chambers\, 407 Grant St\, 1st Floor Wausau\, Wisconsin 54403
CLASS:PUBLIC
END:VEVENT
END:VCALENDAR
